BEGIN:VCALENDAR
VERSION:2.0
PRODID:-//https://sbcat.org.br/22cbcat///NONSGML kigkonsult.se iCalcreator 2.10.15//
METHOD:PUBLISH
BEGIN:VEVENT
UID:20260421T134246-03-2640D7G3Em@https://sbcat.org.br/22cbcat/
DTSTAMP:20260421T164246Z
DESCRIPTION: https://sbcat.org.br/22cbcat/index.php/en/news-and-events/even
 ts/event/23-periodo-de-submissao-dos-trabalhos-completos
DTSTART:20230213T120000Z
DTEND:20230514T120000Z
LOCATION:Transmissão On-line ()
SUMMARY:Período de submissão dos trabalhos completos
URL:https://sbcat.org.br/22cbcat/index.php/en/news-and-events/events/event/
 23-periodo-de-submissao-dos-trabalhos-completos
END:VEVENT
END:VCALENDAR
